Package: npGSEA
Version: 1.43.0
Command: /home/biocbuild/R/R/bin/R CMD INSTALL npGSEA
StartedAt: 2025-01-29 19:53:13 -0000 (Wed, 29 Jan 2025)
EndedAt: 2025-01-29 19:53:36 -0000 (Wed, 29 Jan 2025)
EllapsedTime: 23.4 seconds
RetCode: 0
Status: OK