##############################################################################
##############################################################################
###
### Running command:
###
###   chmod a+r nipalsMCIA -R && E:\biocbuild\bbs-3.21-bioc\R\bin\R.exe CMD build --keep-empty-dirs --no-resave-data nipalsMCIA
###
##############################################################################
##############################################################################


* checking for file 'nipalsMCIA/DESCRIPTION' ... OK
* preparing 'nipalsMCIA':
* checking DESCRIPTION meta-information ... OK
* installing the package to build vignettes
* creating vignettes ... OK
* checking for LF line-endings in source and make files and shell scripts
* checking for empty or unneeded directories
* looking to see if a 'data/datalist' file should be added
* building 'nipalsMCIA_1.5.3.tar.gz'