Package: nipalsMCIA Version: 1.5.2 Command: /Library/Frameworks/R.framework/Resources/bin/R CMD INSTALL nipalsMCIA StartedAt: 2025-02-04 15:19:47 -0500 (Tue, 04 Feb 2025) EndedAt: 2025-02-04 15:19:58 -0500 (Tue, 04 Feb 2025) EllapsedTime: 10.7 seconds RetCode: 0 Status: OK