Package: nipalsMCIA Version: 1.5.2 Command: rm -rf nipalsMCIA.buildbin-libdir && mkdir nipalsMCIA.buildbin-libdir && /Users/biocbuild/BBS/utils/build-universal.sh nipalsMCIA_1.5.2.tar.gz /Library/Frameworks/R.framework/Resources/bin/R nipalsMCIA.buildbin-libdir StartedAt: 2025-02-04 22:25:31 -0500 (Tue, 04 Feb 2025) EndedAt: 2025-02-04 22:25:42 -0500 (Tue, 04 Feb 2025) EllapsedTime: 11.2 seconds RetCode: 0 Status: OK PackageFile: nipalsMCIA_1.5.2.tgz PackageFileSize: 4.019 MiB