Package: netresponse Version: 1.67.0 Command: /Library/Frameworks/R.framework/Resources/bin/R CMD INSTALL netresponse StartedAt: 2025-02-04 15:39:56 -0500 (Tue, 04 Feb 2025) EndedAt: 2025-02-04 15:40:12 -0500 (Tue, 04 Feb 2025) EllapsedTime: 15.6 seconds RetCode: 0 Status: OK