Package: netresponse
Version: 1.67.0
Command: /home/biocbuild/R/R/bin/R CMD INSTALL netresponse
StartedAt: 2025-01-29 20:29:43 -0000 (Wed, 29 Jan 2025)
EndedAt: 2025-01-29 20:29:57 -0000 (Wed, 29 Jan 2025)
EllapsedTime: 13.2 seconds
RetCode: 0
Status: OK