Package: netSmooth
Version: 1.27.0
Maintainer: Jonathan Ronen
MaintainerEmail: yablee at gmail.com
git_url: https://git.bioconductor.org/packages/netSmooth
git_branch: devel
git_last_commit: 4d3aa76
git_last_commit_date: 2024-10-29 10:28:31 -0500 (Tue, 29 Oct 2024)