Package: netDx Version: 1.19.1 Command: /Library/Frameworks/R.framework/Resources/bin/R CMD INSTALL netDx StartedAt: 2025-02-16 15:33:45 -0500 (Sun, 16 Feb 2025) EndedAt: 2025-02-16 15:34:26 -0500 (Sun, 16 Feb 2025) EllapsedTime: 40.7 seconds RetCode: 0 Status: OK