Package: netDx Version: 1.19.1 Command: /home/biocbuild/R/R/bin/R CMD build --keep-empty-dirs --no-resave-data netDx StartedAt: 2025-01-29 00:50:59 -0000 (Wed, 29 Jan 2025) EndedAt: 2025-01-29 01:11:26 -0000 (Wed, 29 Jan 2025) EllapsedTime: 1227.0 seconds RetCode: 0 Status: OK PackageFile: netDx_1.19.1.tar.gz PackageFileSize: 3.331 MiB