Package: netDx Version: 1.19.1 Command: /Library/Frameworks/R.framework/Resources/bin/R CMD build --keep-empty-dirs --no-resave-data netDx StartedAt: 2025-02-16 17:00:12 -0500 (Sun, 16 Feb 2025) EndedAt: 2025-02-16 17:01:26 -0500 (Sun, 16 Feb 2025) EllapsedTime: 74.8 seconds RetCode: 1 Status: ERROR PackageFile: None PackageFileSize: NA