Package: multistateQTL
Version: 1.3.2
Command: E:\biocbuild\bbs-3.21-bioc\R\bin\R.exe CMD INSTALL multistateQTL
StartedAt: 2025-02-18 16:59:39 -0500 (Tue, 18 Feb 2025)
EndedAt: 2025-02-18 17:00:26 -0500 (Tue, 18 Feb 2025)
EllapsedTime: 47.1 seconds
RetCode: 0
Status: OK