Package: multistateQTL
Version: 1.3.2
Command: E:\biocbuild\bbs-3.21-bioc\R\bin\R.exe CMD check --no-multiarch --install=check:multistateQTL.install-out.txt --library=E:\biocbuild\bbs-3.21-bioc\R\library --no-vignettes --timings multistateQTL_1.3.2.tar.gz
StartedAt: 2025-02-20 03:30:03 -0500 (Thu, 20 Feb 2025)
EndedAt: 2025-02-20 03:34:43 -0500 (Thu, 20 Feb 2025)
EllapsedTime: 279.9 seconds
RetCode: 0
Status: OK
CheckDir: multistateQTL.Rcheck
Warnings: 0