Package: multistateQTL Version: 1.3.2 Command: chmod a+r multistateQTL -R && E:\biocbuild\bbs-3.21-bioc\R\bin\R.exe CMD build --keep-empty-dirs --no-resave-data multistateQTL StartedAt: 2025-02-18 20:12:05 -0500 (Tue, 18 Feb 2025) EndedAt: 2025-02-18 20:13:44 -0500 (Tue, 18 Feb 2025) EllapsedTime: 98.3 seconds RetCode: 0 Status: OK PackageFile: multistateQTL_1.3.2.tar.gz PackageFileSize: 491 <A href="http://en.wikipedia.org/wiki/KiB" target="_blank">KiB</A>