Package: multistateQTL Version: 1.3.2 Command: rm -rf multistateQTL.buildbin-libdir && mkdir multistateQTL.buildbin-libdir && E:\biocbuild\bbs-3.21-bioc\R\bin\R.exe CMD INSTALL --build --library=multistateQTL.buildbin-libdir multistateQTL_1.3.2.tar.gz StartedAt: 2025-02-19 07:56:48 -0500 (Wed, 19 Feb 2025) EndedAt: 2025-02-19 07:57:31 -0500 (Wed, 19 Feb 2025) EllapsedTime: 43.0 seconds RetCode: 0 Status: OK PackageFile: multistateQTL_1.3.2.zip PackageFileSize: 572.1 <A href="http://en.wikipedia.org/wiki/KiB" target="_blank">KiB</A>