Package: multicrispr Version: 1.17.1 Command: E:\biocbuild\bbs-3.21-bioc\R\bin\R.exe CMD INSTALL multicrispr StartedAt: 2025-02-19 16:56:21 -0500 (Wed, 19 Feb 2025) EndedAt: 2025-02-19 16:57:30 -0500 (Wed, 19 Feb 2025) EllapsedTime: 69.2 seconds RetCode: 0 Status: OK