Package: multicrispr
Version: 1.17.1
Command: chmod a+r multicrispr -R && E:\biocbuild\bbs-3.21-bioc\R\bin\R.exe CMD build --keep-empty-dirs --no-resave-data multicrispr
StartedAt: 2025-02-19 20:14:33 -0500 (Wed, 19 Feb 2025)
EndedAt: 2025-02-19 20:17:52 -0500 (Wed, 19 Feb 2025)
EllapsedTime: 198.1 seconds
RetCode: 0
Status: OK
PackageFile: multicrispr_1.17.1.tar.gz
PackageFileSize: 1.967 <A href="http://en.wikipedia.org/wiki/MiB" target="_blank">MiB</A>