##############################################################################
##############################################################################
###
### Running command:
###
###   chmod a+r multicrispr -R && E:\biocbuild\bbs-3.21-bioc\R\bin\R.exe CMD build --keep-empty-dirs --no-resave-data multicrispr
###
##############################################################################
##############################################################################


* checking for file 'multicrispr/DESCRIPTION' ... OK
* preparing 'multicrispr':
* checking DESCRIPTION meta-information ... OK
* installing the package to build vignettes
* creating vignettes ... OK
* checking for LF line-endings in source and make files and shell scripts
* checking for empty or unneeded directories
Omitted 'LazyData' from DESCRIPTION
* building 'multicrispr_1.17.1.tar.gz'