Package: multicrispr
Version: 1.17.1
Command: rm -rf multicrispr.buildbin-libdir && mkdir multicrispr.buildbin-libdir && E:\biocbuild\bbs-3.21-bioc\R\bin\R.exe CMD INSTALL --build --library=multicrispr.buildbin-libdir multicrispr_1.17.1.tar.gz
StartedAt: 2025-02-20 08:17:07 -0500 (Thu, 20 Feb 2025)
EndedAt: 2025-02-20 08:18:21 -0500 (Thu, 20 Feb 2025)
EllapsedTime: 73.8 seconds
RetCode: 0
Status: OK
PackageFile: multicrispr_1.17.1.zip
PackageFileSize: 2.135 <A href="http://en.wikipedia.org/wiki/MiB" target="_blank">MiB</A>