##############################################################################
##############################################################################
###
### Running command:
###
###   rm -rf multicrispr.buildbin-libdir && mkdir multicrispr.buildbin-libdir && E:\biocbuild\bbs-3.21-bioc\R\bin\R.exe CMD INSTALL --build --library=multicrispr.buildbin-libdir multicrispr_1.17.1.tar.gz
###
##############################################################################
##############################################################################


* installing *source* package 'multicrispr' ...
** this is package 'multicrispr' version '1.17.1'
** using staged installation
** R
** inst
** byte-compile and prepare package for lazy loading
** help
*** installing help indices
** building package indices
** installing vignettes
** testing if installed package can be loaded from temporary location
** testing if installed package can be loaded from final location
** testing if installed package keeps a record of temporary installation path
* MD5 sums
packaged installation of 'multicrispr' as multicrispr_1.17.1.zip
* DONE (multicrispr)