Package: multicrispr
Version: 1.17.1
Command: /home/biocbuild/R/R/bin/R CMD check --install=check:multicrispr.install-out.txt --library=/home/biocbuild/R/R/site-library --no-vignettes --timings multicrispr_1.17.1.tar.gz
StartedAt: 2025-01-28 13:04:19 -0000 (Tue, 28 Jan 2025)
EndedAt: 2025-01-28 13:13:58 -0000 (Tue, 28 Jan 2025)
EllapsedTime: 578.5 seconds
RetCode: 0
Status: OK
CheckDir: multicrispr.Rcheck
Warnings: 0