Package: multicrispr
Version: 1.17.1
Command: /home/biocbuild/R/R/bin/R CMD build --keep-empty-dirs --no-resave-data multicrispr
StartedAt: 2025-01-29 00:44:17 -0000 (Wed, 29 Jan 2025)
EndedAt: 2025-01-29 00:46:12 -0000 (Wed, 29 Jan 2025)
EllapsedTime: 115.1 seconds
RetCode: 0
Status: OK
PackageFile: multicrispr_1.17.1.tar.gz
PackageFileSize: 2.155 <A href="http://en.wikipedia.org/wiki/MiB" target="_blank">MiB</A>