Package: multiGSEA Version: 1.17.3 Command: E:\biocbuild\bbs-3.21-bioc\R\bin\R.exe CMD INSTALL multiGSEA StartedAt: 2025-02-19 16:40:11 -0500 (Wed, 19 Feb 2025) EndedAt: 2025-02-19 16:41:34 -0500 (Wed, 19 Feb 2025) EllapsedTime: 83.1 seconds RetCode: 0 Status: OK