Package: multiGSEA
Version: 1.17.3
Command: E:\biocbuild\bbs-3.21-bioc\R\bin\R.exe CMD check --no-multiarch --install=check:multiGSEA.install-out.txt --library=E:\biocbuild\bbs-3.21-bioc\R\library --no-vignettes --timings multiGSEA_1.17.3.tar.gz
StartedAt: 2025-02-20 03:28:55 -0500 (Thu, 20 Feb 2025)
EndedAt: 2025-02-20 03:41:48 -0500 (Thu, 20 Feb 2025)
EllapsedTime: 772.7 seconds
RetCode: 0
Status: OK
CheckDir: multiGSEA.Rcheck
Warnings: 0