Package: multiGSEA
Version: 1.17.3
Command: chmod a+r multiGSEA -R && E:\biocbuild\bbs-3.21-bioc\R\bin\R.exe CMD build --keep-empty-dirs --no-resave-data multiGSEA
StartedAt: 2025-02-19 20:14:38 -0500 (Wed, 19 Feb 2025)
EndedAt: 2025-02-19 20:36:10 -0500 (Wed, 19 Feb 2025)
EllapsedTime: 1292.5 seconds
RetCode: 0
Status: OK
PackageFile: multiGSEA_1.17.3.tar.gz
PackageFileSize: 953 <A href="http://en.wikipedia.org/wiki/KiB" target="_blank">KiB</A>