Package: multiGSEA Version: 1.17.3 Command: rm -rf multiGSEA.buildbin-libdir && mkdir multiGSEA.buildbin-libdir && E:\biocbuild\bbs-3.21-bioc\R\bin\R.exe CMD INSTALL --build --library=multiGSEA.buildbin-libdir multiGSEA_1.17.3.tar.gz StartedAt: 2025-02-20 08:17:15 -0500 (Thu, 20 Feb 2025) EndedAt: 2025-02-20 08:18:41 -0500 (Thu, 20 Feb 2025) EllapsedTime: 86.0 seconds RetCode: 0 Status: OK PackageFile: multiGSEA_1.17.3.zip PackageFileSize: 988.3 <A href="http://en.wikipedia.org/wiki/KiB" target="_blank">KiB</A>