##############################################################################
##############################################################################
###
### Running command:
###
###   rm -rf multiGSEA.buildbin-libdir && mkdir multiGSEA.buildbin-libdir && E:\biocbuild\bbs-3.21-bioc\R\bin\R.exe CMD INSTALL --build --library=multiGSEA.buildbin-libdir multiGSEA_1.17.3.tar.gz
###
##############################################################################
##############################################################################


* installing *source* package 'multiGSEA' ...
** this is package 'multiGSEA' version '1.17.3'
** using staged installation
** R
** data
** inst
** byte-compile and prepare package for lazy loading
loading from cache
** help
*** installing help indices
** building package indices
** installing vignettes
** testing if installed package can be loaded from temporary location
loading from cache
** testing if installed package can be loaded from final location
loading from cache
** testing if installed package keeps a record of temporary installation path
* MD5 sums
packaged installation of 'multiGSEA' as multiGSEA_1.17.3.zip
* DONE (multiGSEA)