Package: multiGSEA Version: 1.17.3 Command: /Library/Frameworks/R.framework/Resources/bin/R CMD check --install=check:multiGSEA.install-out.txt --library=/Library/Frameworks/R.framework/Resources/library --no-vignettes --timings multiGSEA_1.17.3.tar.gz StartedAt: 2025-02-04 21:57:58 -0500 (Tue, 04 Feb 2025) EndedAt: 2025-02-04 22:08:29 -0500 (Tue, 04 Feb 2025) EllapsedTime: 630.7 seconds RetCode: 0 Status: OK CheckDir: multiGSEA.Rcheck Warnings: 0