Package: multiGSEA
Version: 1.17.3
Command: /Library/Frameworks/R.framework/Resources/bin/R CMD INSTALL multiGSEA
StartedAt: 2025-02-19 15:22:56 -0500 (Wed, 19 Feb 2025)
EndedAt: 2025-02-19 15:23:30 -0500 (Wed, 19 Feb 2025)
EllapsedTime: 34.7 seconds
RetCode: 0
Status: OK