Package: multiGSEA Version: 1.17.3 Command: rm -rf multiGSEA.buildbin-libdir && mkdir multiGSEA.buildbin-libdir && /Users/biocbuild/BBS/utils/build-universal.sh multiGSEA_1.17.3.tar.gz /Library/Frameworks/R.framework/Resources/bin/R multiGSEA.buildbin-libdir StartedAt: 2025-02-19 22:30:37 -0500 (Wed, 19 Feb 2025) EndedAt: 2025-02-19 22:31:15 -0500 (Wed, 19 Feb 2025) EllapsedTime: 37.7 seconds RetCode: 0 Status: OK PackageFile: multiGSEA_1.17.3.tgz PackageFileSize: 982.7 <A href="http://en.wikipedia.org/wiki/KiB" target="_blank">KiB</A>