Package: msmsTests Version: 1.45.0 Command: /Library/Frameworks/R.framework/Resources/bin/R CMD check --install=check:msmsTests.install-out.txt --library=/Library/Frameworks/R.framework/Resources/library --no-vignettes --timings msmsTests_1.45.0.tar.gz StartedAt: 2025-01-31 20:21:06 -0500 (Fri, 31 Jan 2025) EndedAt: 2025-01-31 20:22:07 -0500 (Fri, 31 Jan 2025) EllapsedTime: 60.8 seconds RetCode: 0 Status: OK CheckDir: msmsTests.Rcheck Warnings: 0