Package: msmsTests Version: 1.45.0 Command: /Library/Frameworks/R.framework/Resources/bin/R CMD build --keep-empty-dirs --no-resave-data msmsTests StartedAt: 2025-01-31 17:04:41 -0500 (Fri, 31 Jan 2025) EndedAt: 2025-01-31 17:05:10 -0500 (Fri, 31 Jan 2025) EllapsedTime: 29.3 seconds RetCode: 0 Status: OK PackageFile: msmsTests_1.45.0.tar.gz PackageFileSize: 548.5 KiB