Package: msa Version: 1.39.0 Command: chmod a+r msa -R && E:\biocbuild\bbs-3.21-bioc\R\bin\R.exe CMD build --keep-empty-dirs --no-resave-data msa StartedAt: 2025-01-31 19:55:52 -0500 (Fri, 31 Jan 2025) EndedAt: 2025-01-31 20:04:04 -0500 (Fri, 31 Jan 2025) EllapsedTime: 492.1 seconds RetCode: 0 Status: OK PackageFile: msa_1.39.0.tar.gz PackageFileSize: 3.891 MiB