Package: msa Version: 1.39.0 Command: /home/biocbuild/bbs-3.21-bioc/R/bin/R CMD INSTALL msa StartedAt: 2025-01-31 15:14:27 -0500 (Fri, 31 Jan 2025) EndedAt: 2025-01-31 15:18:42 -0500 (Fri, 31 Jan 2025) EllapsedTime: 254.9 seconds RetCode: 0 Status: OK