Package: msa Version: 1.39.0 Command: /home/biocbuild/bbs-3.21-bioc/R/bin/R CMD build --keep-empty-dirs --no-resave-data msa StartedAt: 2025-01-31 18:18:20 -0500 (Fri, 31 Jan 2025) EndedAt: 2025-01-31 18:22:57 -0500 (Fri, 31 Jan 2025) EllapsedTime: 276.3 seconds RetCode: 0 Status: OK PackageFile: msa_1.39.0.tar.gz PackageFileSize: 3.893 MiB