Package: msa Version: 1.39.0 Command: /Library/Frameworks/R.framework/Resources/bin/R CMD build --keep-empty-dirs --no-resave-data msa StartedAt: 2025-01-31 17:03:43 -0500 (Fri, 31 Jan 2025) EndedAt: 2025-01-31 17:05:49 -0500 (Fri, 31 Jan 2025) EllapsedTime: 125.4 seconds RetCode: 0 Status: OK PackageFile: msa_1.39.0.tar.gz PackageFileSize: 3.893 MiB