Package: mogsa Version: 1.41.0 Command: chmod a+r mogsa -R && E:\biocbuild\bbs-3.21-bioc\R\bin\R.exe CMD build --keep-empty-dirs --no-resave-data mogsa StartedAt: 2025-01-31 19:51:11 -0500 (Fri, 31 Jan 2025) EndedAt: 2025-01-31 19:54:29 -0500 (Fri, 31 Jan 2025) EllapsedTime: 198.5 seconds RetCode: 0 Status: OK PackageFile: mogsa_1.41.0.tar.gz PackageFileSize: 774.9 KiB