Package: mogsa Version: 1.41.0 Command: /home/biocbuild/R/R/bin/R CMD INSTALL mogsa StartedAt: 2025-01-29 20:16:22 -0000 (Wed, 29 Jan 2025) EndedAt: 2025-01-29 20:16:55 -0000 (Wed, 29 Jan 2025) EllapsedTime: 32.8 seconds RetCode: 0 Status: OK