Package: mnem
Version: 1.23.0
Command: E:\biocbuild\bbs-3.21-bioc\R\bin\R.exe CMD INSTALL mnem
StartedAt: 2025-02-19 16:45:50 -0500 (Wed, 19 Feb 2025)
EndedAt: 2025-02-19 16:46:30 -0500 (Wed, 19 Feb 2025)
EllapsedTime: 40.1 seconds
RetCode: 0
Status: OK