Package: mnem
Version: 1.23.0
Command: E:\biocbuild\bbs-3.21-bioc\R\bin\R.exe CMD check --no-multiarch --install=check:mnem.install-out.txt --library=E:\biocbuild\bbs-3.21-bioc\R\library --no-vignettes --timings mnem_1.23.0.tar.gz
StartedAt: 2025-02-20 03:07:28 -0500 (Thu, 20 Feb 2025)
EndedAt: 2025-02-20 03:10:02 -0500 (Thu, 20 Feb 2025)
EllapsedTime: 154.1 seconds
RetCode: 0
Status: OK
CheckDir: mnem.Rcheck
Warnings: 0