Package: mnem Version: 1.23.0 Command: rm -rf mnem.buildbin-libdir && mkdir mnem.buildbin-libdir && E:\biocbuild\bbs-3.21-bioc\R\bin\R.exe CMD INSTALL --build --library=mnem.buildbin-libdir mnem_1.23.0.tar.gz StartedAt: 2025-02-20 08:13:23 -0500 (Thu, 20 Feb 2025) EndedAt: 2025-02-20 08:14:11 -0500 (Thu, 20 Feb 2025) EllapsedTime: 48.3 seconds RetCode: 0 Status: OK PackageFile: mnem_1.23.0.zip PackageFileSize: 3.625 <A href="http://en.wikipedia.org/wiki/MiB" target="_blank">MiB</A>