Package: mnem Version: 1.23.0 Command: /Library/Frameworks/R.framework/Resources/bin/R CMD INSTALL mnem StartedAt: 2025-02-19 15:37:39 -0500 (Wed, 19 Feb 2025) EndedAt: 2025-02-19 15:38:18 -0500 (Wed, 19 Feb 2025) EllapsedTime: 39.4 seconds RetCode: 0 Status: OK