Package: mnem
Version: 1.23.0
Command: /Library/Frameworks/R.framework/Resources/bin/R CMD check --install=check:mnem.install-out.txt --library=/Library/Frameworks/R.framework/Resources/library --no-vignettes --timings mnem_1.23.0.tar.gz
StartedAt: 2025-02-18 21:37:02 -0500 (Tue, 18 Feb 2025)
EndedAt: 2025-02-18 21:39:10 -0500 (Tue, 18 Feb 2025)
EllapsedTime: 128.1 seconds
RetCode: 0
Status: OK
CheckDir: mnem.Rcheck
Warnings: 0