Package: mnem
Version: 1.23.0
Command: /Library/Frameworks/R.framework/Resources/bin/R CMD build --keep-empty-dirs --no-resave-data mnem
StartedAt: 2025-02-18 17:21:42 -0500 (Tue, 18 Feb 2025)
EndedAt: 2025-02-18 17:22:56 -0500 (Tue, 18 Feb 2025)
EllapsedTime: 74.3 seconds
RetCode: 0
Status: OK
PackageFile: mnem_1.23.0.tar.gz
PackageFileSize: 4.797 <A href="http://en.wikipedia.org/wiki/MiB" target="_blank">MiB</A>