Package: mnem
Version: 1.23.0
Command: rm -rf mnem.buildbin-libdir && mkdir mnem.buildbin-libdir && /Users/biocbuild/BBS/utils/build-universal.sh mnem_1.23.0.tar.gz /Library/Frameworks/R.framework/Resources/bin/R mnem.buildbin-libdir
StartedAt: 2025-02-20 00:42:00 -0500 (Thu, 20 Feb 2025)
EndedAt: 2025-02-20 00:42:43 -0500 (Thu, 20 Feb 2025)
EllapsedTime: 42.5 seconds
RetCode: 0
Status: OK
PackageFile: mnem_1.23.0.tgz
PackageFileSize: 5.513 <A href="http://en.wikipedia.org/wiki/MiB" target="_blank">MiB</A>