Package: mnem
Version: 1.23.0
Command: /home/biocbuild/R/R/bin/R CMD INSTALL mnem
StartedAt: 2025-01-29 20:26:24 -0000 (Wed, 29 Jan 2025)
EndedAt: 2025-01-29 20:27:12 -0000 (Wed, 29 Jan 2025)
EllapsedTime: 48.0 seconds
RetCode: 0
Status: OK