Package: mnem
Version: 1.23.0
Command: /home/biocbuild/R/R/bin/R CMD check --install=check:mnem.install-out.txt --library=/home/biocbuild/R/R/site-library --no-vignettes --timings mnem_1.23.0.tar.gz
StartedAt: 2025-01-28 12:37:42 -0000 (Tue, 28 Jan 2025)
EndedAt: 2025-01-28 12:40:25 -0000 (Tue, 28 Jan 2025)
EllapsedTime: 163.2 seconds
RetCode: 0
Status: WARNINGS
CheckDir: mnem.Rcheck
Warnings: 1