Package: mnem
Version: 1.23.0
Command: /home/biocbuild/R/R/bin/R CMD build --keep-empty-dirs --no-resave-data mnem
StartedAt: 2025-01-29 00:27:21 -0000 (Wed, 29 Jan 2025)
EndedAt: 2025-01-29 00:29:04 -0000 (Wed, 29 Jan 2025)
EllapsedTime: 102.1 seconds
RetCode: 0
Status: OK
PackageFile: mnem_1.23.0.tar.gz
PackageFileSize: 3.172 <A href="http://en.wikipedia.org/wiki/MiB" target="_blank">MiB</A>