##############################################################################
##############################################################################
###
### Running command:
###
###   /home/biocbuild/R/R/bin/R CMD build --keep-empty-dirs --no-resave-data mnem
###
##############################################################################
##############################################################################


* checking for file ‘mnem/DESCRIPTION’ ... OK
* preparing ‘mnem’:
* checking DESCRIPTION meta-information ... OK
* cleaning src
* installing the package to build vignettes
* creating vignettes ... OK
* cleaning src
* checking for LF line-endings in source and make files and shell scripts
* checking for empty or unneeded directories
* building ‘mnem_1.23.0.tar.gz’