Package: mina
Version: 1.15.0
Command: /Library/Frameworks/R.framework/Resources/bin/R CMD INSTALL mina
StartedAt: 2025-02-19 15:24:57 -0500 (Wed, 19 Feb 2025)
EndedAt: 2025-02-19 15:25:36 -0500 (Wed, 19 Feb 2025)
EllapsedTime: 39.6 seconds
RetCode: 0
Status: OK