Package: mina
Version: 1.15.0
Command: /Library/Frameworks/R.framework/Resources/bin/R CMD check --install=check:mina.install-out.txt --library=/Library/Frameworks/R.framework/Resources/library --no-vignettes --timings mina_1.15.0.tar.gz
StartedAt: 2025-02-19 21:38:32 -0500 (Wed, 19 Feb 2025)
EndedAt: 2025-02-19 21:42:36 -0500 (Wed, 19 Feb 2025)
EllapsedTime: 244.4 seconds
RetCode: 0
Status: WARNINGS
CheckDir: mina.Rcheck
Warnings: 1